BEGIN:VCALENDAR
VERSION:2.0
PRODID:-//ChamberMaster//Event Calendar 2.0//EN
METHOD:PUBLISH
X-PUBLISHED-TTL:P3D
REFRESH-INTERVAL:P3D
CALSCALE:GREGORIAN
BEGIN:VEVENT
DTSTART:20191017T143000Z
DTEND:20191017T163000Z
X-MICROSOFT-CDO-ALLDAYEVENT:FALSE
SUMMARY:Stepping On Falls Prevention
DESCRIPTION:Free of charge. To register\, please call Buffalo Hospital at 763-684-7025\n\nStepping On is a 7-week\, 2 hours each week\, well-researched falls prevention program\, published in the Journal of the American Geriatrics Society. Offered to people 50 years and older who have fallen in the past\, at risk of falling or have fear of falling.\n\nTopics include:\n\n  Simple and fun balance and strength training\n\n  The role vision plays in keeping your balance\n\n  How medications can contribute to falls\n\n  Ways to stay safe when out and about in your community\n\n  What to look for in safe footwear\n\n  How to check your home for safety
X-ALT-DESC;FMTTYPE=text/html:<p>Free of charge. To register\, please call Buffalo Hospital at 763-684-7025</p>\n\n<p>Stepping On is a 7-week\, 2 hours each week\, well-researched falls prevention program\, published in the Journal of the American Geriatrics Society. Offered to people 50 years and older who have fallen in the past\, at risk of falling or have fear of falling.</p>\n\n<p>Topics include:</p>\n\n<p>&bull\; Simple and fun balance and strength training</p>\n\n<p>&bull\; The role vision plays in keeping your balance</p>\n\n<p>&bull\; How medications can contribute to falls</p>\n\n<p>&bull\; Ways to stay safe when out and about in your community</p>\n\n<p>&bull\; What to look for in safe footwear</p>\n\n<p>&bull\; How to check your home for safety</p>\n
LOCATION:Buffalo Hospital 303 Catlin Street Buffalo MN 55313
UID:e.1628.7852
SEQUENCE:3
DTSTAMP:20260421T134837Z
URL:https://business.buffalochamber.org/events/details/stepping-on-falls-prevention-10-17-2019-7852
END:VEVENT

END:VCALENDAR
