BEGIN:VCALENDAR
VERSION:2.0
PRODID:-//ChamberMaster//Event Calendar 2.0//EN
METHOD:PUBLISH
X-PUBLISHED-TTL:P3D
REFRESH-INTERVAL:P3D
CALSCALE:GREGORIAN
BEGIN:VEVENT
DTSTART:20231213T234500Z
DTEND:20231214T003000Z
X-MICROSOFT-CDO-ALLDAYEVENT:FALSE
SUMMARY:Holiday Train-Canadian Pacific
DESCRIPTION:See the Holiday Train as it stops in Buffalo on Wednesday\, December 13th from 5:45-6:30 pm (approx). Don't miss it!  The Buffalo Lions and Food Shelf are collecting non-expired food items.  \n\n \n\nThe purpose of the Holiday Train is to bring awareness to food insecurity throughout North America and Canada. This year CP is using the motto: CP Has Heart. They aim to improve the heart health of adults and children across North America and Canada. They encourage all who attend the event on December 14th to make a monetary donation to the food shelf or to bring a donation of heart healthy food items.\n\n\n\nWe appreciate all that CP does to help bring awareness to our mission of helping the families in need in our own community.
X-ALT-DESC;FMTTYPE=text/html:<strong><span style="font-family:arial\,sans-serif\;"><span style="font-size:10.5pt\;">See the Holiday Train</span></span></strong><span style="font-family:arial\,sans-serif\;"><span style="font-size:10.5pt\;">&nbsp\;as it stops in Buffalo on Wednesday\, December&nbsp\;</span></span><span style="font-family:arial\,sans-serif\;"><span style="font-size:10pt\;"><span data-scayt-lang="en_US" data-scayt-word="11th" style="background-position:52% 100%\;">13th&nbsp\;</span></span><span style="font-size:10.5pt\;"><span style="color:black\;"><span style="font-family:arial\,sans-serif\;"><span style="font-size:10.5pt\;">from 5:45-6:30 pm (approx). Don&#39\;t miss it! &nbsp\;The Buffalo Lions and Food Shelf are collecting&nbsp\;<u>non-expired</u>&nbsp\;food items.&nbsp\;&nbsp\;</span></span></span></span></span><br />\n&nbsp\;\n<div class="xdj266r x11i5rnm xat24cr x1mh8g0r x1vvkbs x126k92a" style="margin: 0px\; white-space: pre-wrap\; overflow-wrap: break-word\; font-family: &quot\;Segoe UI Historic&quot\;\, &quot\;Segoe UI&quot\;\, Helvetica\, Arial\, sans-serif\; color: rgb(5\, 5\, 5)\; font-size: 15px\;">\n<div dir="auto" style="font-family: inherit\;">The purpose of the Holiday Train is to bring awareness to food insecurity throughout North America and Canada. This year CP is using the motto: CP Has Heart. They aim to improve the heart health of adults and children across North America and Canada. They encourage all who attend the event on December 14th to make a monetary donation to the food shelf or to bring a donation of heart healthy food items.</div>\n</div>\n\n<div class="x11i5rnm xat24cr x1mh8g0r x1vvkbs xtlvy1s x126k92a" style="margin: 0.5em 0px 0px\; white-space: pre-wrap\; overflow-wrap: break-word\; font-family: &quot\;Segoe UI Historic&quot\;\, &quot\;Segoe UI&quot\;\, Helvetica\, Arial\, sans-serif\; color: rgb(5\, 5\, 5)\; font-size: 15px\;">\n<div dir="auto" style="font-family: inherit\;">We appreciate all that CP does to help bring awareness to our mission of helping the families in need in our own community.</div>\n</div>\n
LOCATION:Northeast crossing on 5th Street (between Culver's and DeZiel Heating and A/C). Side doors open to the west side of the tracks ONLY (DeZiel side).
UID:e.1628.10096
SEQUENCE:3
DTSTAMP:20260424T184801Z
URL:https://business.buffalochamber.org/events/details/holiday-train-canadian-pacific-10096
END:VEVENT

END:VCALENDAR
