BEGIN:VCALENDAR
VERSION:2.0
PRODID:-//ChamberMaster//Event Calendar 2.0//EN
METHOD:PUBLISH
X-PUBLISHED-TTL:P3D
REFRESH-INTERVAL:P3D
CALSCALE:GREGORIAN
BEGIN:VEVENT
DTSTART:20190615T230000Z
DTEND:20190616T010000Z
X-MICROSOFT-CDO-ALLDAYEVENT:FALSE
SUMMARY:GRAND PARADE 2019
DESCRIPTION:Watch Buffalo Day's long-standing tradition - a parade filled with over 100 units including marching bands\, Buffalo Royalty and visiting royalty\, live music\, clowns\, local youth and civic organizations and our very own hometown Heroes.
X-ALT-DESC;FMTTYPE=text/html:<strong><span style="font-size:14px\;"><span style="font-weight: bold\;"><span style="font-family: arial\;">Watch Buffalo Day&#39\;s long-standing tradition - a </span></span><span style="font-family: arial\;">parade filled with over 100 units including marching bands\, Buffalo Royalty and visiting royalty\, live music\, clowns\, local youth and civic organizations and our very own hometown Heroes. </span></span></strong>
LOCATION:Starting at Soo Lane and turning south down 1st Avenue - through the heart of downtown Buffalo.
UID:e.1628.7745
SEQUENCE:3
DTSTAMP:20260422T014049Z
URL:https://business.buffalochamber.org/events/details/grand-parade-2019-7745
END:VEVENT

END:VCALENDAR
