BEGIN:VCALENDAR
VERSION:2.0
PRODID:-//ChamberMaster//Event Calendar 2.0//EN
METHOD:PUBLISH
X-PUBLISHED-TTL:P3D
REFRESH-INTERVAL:P3D
CALSCALE:GREGORIAN
BEGIN:VEVENT
DTSTART:20260618T130000Z
DTEND:20260618T140000Z
X-MICROSOFT-CDO-ALLDAYEVENT:FALSE
SUMMARY:Good Morning Buffalo - Buffalo Community Center - New Location
DESCRIPTION:Great networking opportunity to meet with other business leaders in the community over a cup of coffee and treats.  Hosting business gets an opportunity to show and share happenings in their business.
X-ALT-DESC;FMTTYPE=text/html:Great networking opportunity to meet with other business leaders in the community over a cup of coffee and treats.&nbsp\; Hosting business gets an opportunity to show and share happenings in their business.
LOCATION:Buffalo Community Center - New Location (Old PenRad blg) 114 Commerce Circle Buffalo
UID:e.1628.10381
SEQUENCE:3
DTSTAMP:20260421T071648Z
URL:https://business.buffalochamber.org/events/details/good-morning-buffalo-buffalo-community-center-new-location-10381
END:VEVENT

END:VCALENDAR
