BEGIN:VCALENDAR
VERSION:2.0
PRODID:-//ChamberMaster//Event Calendar 2.0//EN
METHOD:PUBLISH
X-PUBLISHED-TTL:P3D
REFRESH-INTERVAL:P3D
CALSCALE:GREGORIAN
BEGIN:VEVENT
DTSTART:20240613T233000Z
DTEND:20240614T003000Z
X-MICROSOFT-CDO-ALLDAYEVENT:FALSE
SUMMARY:Euchre Card Tournament - 2024
DESCRIPTION:Euchre Card Tournament
X-ALT-DESC;FMTTYPE=text/html:Euchre Card Tournament
LOCATION:Community Center
UID:e.1628.10187
SEQUENCE:3
DTSTAMP:20260425T200726Z
URL:https://business.buffalochamber.org/events/details/euchre-card-tournament-2024-10187
END:VEVENT

END:VCALENDAR
