BEGIN:VCALENDAR
VERSION:2.0
PRODID:-//ChamberMaster//Event Calendar 2.0//EN
METHOD:PUBLISH
X-PUBLISHED-TTL:P3D
REFRESH-INTERVAL:P3D
CALSCALE:GREGORIAN
BEGIN:VEVENT
DTSTART:20240616T143000Z
DTEND:20240616T163000Z
X-MICROSOFT-CDO-ALLDAYEVENT:FALSE
SUMMARY:Community Worship Service & Continental Breakfast 2024
DESCRIPTION:Join the Covenant Church as they host a light breakfast at 9:30 and the community church service for all denominations starting at 10:00 am
X-ALT-DESC;FMTTYPE=text/html:Join the Covenant Church as they host a light breakfast at 9:30 and the community church service for all denominations starting at 10:00 am
LOCATION:Sturges Park\, Band Shell 505 2nd Ave S\, Buffalo
UID:e.1628.10155
SEQUENCE:3
DTSTAMP:20260420T192700Z
URL:https://business.buffalochamber.org/events/details/community-worship-service-continental-breakfast-2024-10155
END:VEVENT

END:VCALENDAR
