BEGIN:VCALENDAR
VERSION:2.0
PRODID:-//ChamberMaster//Event Calendar 2.0//EN
METHOD:PUBLISH
X-PUBLISHED-TTL:P3D
REFRESH-INTERVAL:P3D
CALSCALE:GREGORIAN
BEGIN:VEVENT
DTSTART:20240614T050000Z
DTEND:20240614T183000Z
X-MICROSOFT-CDO-ALLDAYEVENT:FALSE
SUMMARY:Community Picnic
DESCRIPTION:Outdoor Summer Time Picnic Lunch.\n\nBuffalo City Center Park
X-ALT-DESC;FMTTYPE=text/html:Outdoor Summer Time Picnic Lunch.<br />\nBuffalo City Center Park<br />\n&nbsp\;
LOCATION:Buffalo City Center Park (by Community Center)
UID:e.1628.10189
SEQUENCE:3
DTSTAMP:20260420T190950Z
URL:https://business.buffalochamber.org/events/details/community-picnic-10189
END:VEVENT

END:VCALENDAR
