BEGIN:VCALENDAR
VERSION:2.0
PRODID:-//ChamberMaster//Event Calendar 2.0//EN
METHOD:PUBLISH
X-PUBLISHED-TTL:P3D
REFRESH-INTERVAL:P3D
CALSCALE:GREGORIAN
BEGIN:VEVENT
DTSTART:20240610T230000Z
DTEND:20240611T010000Z
X-MICROSOFT-CDO-ALLDAYEVENT:FALSE
SUMMARY:Buffalo Royalty Candidate Ice Cream Social 2024
DESCRIPTION:Meets the 2024-25 Buffalo Royalty candidate.
X-ALT-DESC;FMTTYPE=text/html:Meets the 2024-25 Buffalo Royalty candidate.
LOCATION:Buffalo Community Center 206 Central Ave
UID:e.1628.10139
SEQUENCE:3
DTSTAMP:20260420T192741Z
URL:https://business.buffalochamber.org/events/details/buffalo-royalty-candidate-ice-cream-social-2024-10139
END:VEVENT

END:VCALENDAR
