BEGIN:VCALENDAR
VERSION:2.0
PRODID:-//ChamberMaster//Event Calendar 2.0//EN
METHOD:PUBLISH
X-PUBLISHED-TTL:P3D
REFRESH-INTERVAL:P3D
CALSCALE:GREGORIAN
BEGIN:VEVENT
DTSTART:20250816T140000Z
DTEND:20250816T203000Z
X-MICROSOFT-CDO-ALLDAYEVENT:FALSE
SUMMARY:Buffalo Chamber's Art & Craft Festival
DESCRIPTION:BUFFALO CHAMBER'S ART & CRAFT FESTIVAL\n\nSaturday\, August 16\, 2025\n\n9 - 3:30 pm\n\nDowntown Buffalo\n\nThe Buffalo Area Chamber of Commerce celebrates 42 years of hosting the Art & Craft Festival in 2024! \n\n\n\nThe Buffalo Art & Craft Festival is on Saturday\, August 16\, 2025 from 9 a.m. - 3:30 p.m. (the 3rd Saturday in August). The annual Art & Craft Festival is held in the streets of downtown Buffalo. Approximately 150+ art and craft vendors exhibit their appealing merchandise and food vendors tempt you to taste delicious food and treats. Please join us for a day of fun for the entire family. The festival takes place rain or shine. Free to the public.\n\n\n\nArtisans and crafters must exhibit handcrafted items only\, making for a great artisan show to attend. \n\n\n\nReturning Artisans may complete application and register online here.\n\nAll Artisans must complete a ST-19.
X-ALT-DESC;FMTTYPE=text/html:<p><span style="font-size: 14px\;"><span style="font-weight: bold\; language: en-US\;">BUFFALO CHAMBER&#39\;S ART&nbsp\;&amp\; CRAFT&nbsp\;FESTIVAL</span><br />\n<span style="font-weight: bold\; language: en-US\;">Saturday\, August 16\, 2025</span></span><br />\n9 -&nbsp\;3:30&nbsp\;pm<br />\nDowntown Buffalo</p>\n\n<p>The Buffalo Area Chamber of Commerce celebrates 42&nbsp\;years of hosting the Art &amp\; Craft Festival in 2024!&nbsp\;<br />\n<br />\nThe Buffalo&nbsp\;Art&nbsp\;&amp\; Craft&nbsp\;Festival is on Saturday\, August 16\, 2025&nbsp\;from 9 a.m. -&nbsp\;3:30&nbsp\;p.m. (the&nbsp\;3rd&nbsp\;Saturday in August). The annual Art&nbsp\;&amp\; Craft&nbsp\;Festival is held in the streets of downtown Buffalo. Approximately 150+ art and craft vendors exhibit their appealing merchandise and food vendors tempt you to taste delicious food and treats. Please join us for a day of fun for the entire family. The festival takes place rain or shine. Free to the public.<br />\n<br />\nArtisans and crafters&nbsp\;must exhibit handcrafted items only\, making for a great artisan show to attend.&nbsp\;<br />\n<br />\nReturning Artisans may complete application and register online here.<br />\n<a href="https://chambermaster.blob.core.windows.net/userfiles/UserFiles/chambers/1628/File/ST-192.pdf">All Artisans must complete a ST-19</a>.</p>\n
LOCATION:Downtown Buffalo 1st Avenue and Division Street
UID:e.1628.10207
SEQUENCE:3
DTSTAMP:20260425T105514Z
URL:https://business.buffalochamber.org/events/details/buffalo-chamber-s-art-craft-festival-10207
END:VEVENT

END:VCALENDAR
