BEGIN:VCALENDAR
VERSION:2.0
PRODID:-//ChamberMaster//Event Calendar 2.0//EN
METHOD:PUBLISH
X-PUBLISHED-TTL:P3D
REFRESH-INTERVAL:P3D
CALSCALE:GREGORIAN
BEGIN:VEVENT
DTSTART;VALUE=DATE:20241231
DTEND;VALUE=DATE:20250101
TRANSP:TRANSPARENT
X-MICROSOFT-CDO-ALLDAYEVENT:TRUE
SUMMARY:Buffalo Bucks by Buffalo Chamber of Commerce
DESCRIPTION:The Buffalo Chamber of Commerce is always at the forefront of tracking the pulse of our business community and we like to keep the revenue here to support those businesses  Let's keep it local by shopping\, eating\, and supporting local.  Most of our business owners live right here with you. \n\n \n\nBuffalo Bucks are sold by the Buffalo Chamber of Commerce.  They act as a bank check and are redeemable to purchase merchandise or food at any participating Member's businesses.  Just write the business name in the "Pay to Order Of".  Think:\n\n \n\n  Gifts for: "hard to buy for" people\n\n  Teacher \n\n  Holiday bonuses\n\n  Employee Incentive Programs\n\n  Thank you's\n\n \n\nBuffalo Bucks: Anyone can buy them! Purchase them in increments of $20/each with $2 shipping/handling fee (for online purchase only).  Each $20 check must be spent in its entirety in one member business.  There will be no cash back. \n\n \n\nBuffalo Bucks: You can find a list of participating businesses on the Chamber of Commerce website and on the insert given with the check itself when you purchase the Buffalo Bucks.   https://business.buffalochamber.org/list\n\n\n\nTo order online click the registration button to the right and check out as a guest. Your printed Buffalo Bucks will be mailed to you.  You may also stop in the office to purchase: 205 Central Ave (next to the post office).\n\n \n\nThank you for keeping the revenue flowing in our community by supporting our local businesses.
X-ALT-DESC;FMTTYPE=text/html:<span style="font-weight:bold\;language:en-US\;"><span style="color:#006600\;"><span style="font-family:arial\;"><span style="font-size:11.0pt\;">The Buffalo Chamber of Commerce</span></span></span></span><span style="font-family: arial\;"><span style="font-size: 11pt\;">&nbsp\;is always at the forefront of tracking the pulse of our business community and we like to keep the revenue here to support those businesses&nbsp\; Let&#39\;s keep it local by shopping\, eating\, and supporting local.&nbsp\; Most of our business owners live right here with you.&nbsp\;</span></span><br />\n&nbsp\;<br />\n<span style="font-weight:bold\;language:en-US\;"><span style="color:#006600\;"><span style="font-family:arial\;"><span style="font-size:11.0pt\;">Buffalo Bucks</span></span></span></span>&nbsp\;<span style="language:en-US\;"><span style="font-family:arial\;"><span style="font-size:11.0pt\;">are sold by the Buffalo Chamber of Commerce.&nbsp\; They act as a bank check and are redeemable to purchase merchandise or food at any participating Member&#39\;s businesses.&nbsp\; Just write the business name in the &ldquo\;Pay to Order Of&rdquo\;.&nbsp\; Think:</span></span></span><br />\n&nbsp\;<br />\n<span style="direction:ltr\;unicode-bidi:embed\;language:x-none\;"><span style="color:black\;"><span style="font-size:10.0pt\;"><span style="font-family:symbol\;">&middot\;</span></span></span></span>&nbsp\;<span style="language:en-US\;"><span style="font-family:arial\;"><span style="font-size:11.0pt\;">Gifts for: &ldquo\;hard to buy for&rdquo\; people</span></span></span><br />\n<span style="direction:ltr\;unicode-bidi:embed\;language:x-none\;"><span style="color:black\;"><span style="font-size:10.0pt\;"><span style="font-family:symbol\;">&middot\;</span></span></span></span>&nbsp\;<span style="language:en-US\;"><span style="font-family:arial\;"><span style="font-size:11.0pt\;">Teacher </span></span></span><br />\n<span style="direction:ltr\;unicode-bidi:embed\;language:x-none\;"><span style="color:black\;"><span style="font-size:10.0pt\;"><span style="font-family:symbol\;">&middot\;</span></span></span></span>&nbsp\;<span style="language:en-US\;"><span style="font-family:arial\;"><span style="font-size:11.0pt\;">Holiday bonuses</span></span></span><br />\n<span style="direction:ltr\;unicode-bidi:embed\;language:x-none\;"><span style="color:black\;"><span style="font-size:10.0pt\;"><span style="font-family:symbol\;">&middot\;</span></span></span></span>&nbsp\;<span style="language:en-US\;"><span style="font-family:arial\;"><span style="font-size:11.0pt\;">Employee Incentive Programs</span></span></span><br />\n<span style="direction:ltr\;unicode-bidi:embed\;language:x-none\;"><span style="color:black\;"><span style="font-size:10.0pt\;"><span style="font-family:symbol\;">&middot\;</span></span></span></span>&nbsp\;<span style="language:en-US\;"><span style="font-family:arial\;"><span style="font-size:11.0pt\;">Thank you&rsquo\;s</span></span></span><br />\n&nbsp\;<br />\n<span style="font-weight:bold\;language:en-US\;"><span style="color:#006600\;"><span style="font-family:arial\;"><span style="font-size:11.0pt\;">Buffalo Bucks: </span></span></span></span><span style="language:en-US\;"><span style="font-family:arial\;"><span style="font-size:11.0pt\;">Anyone can buy them! Purchase them in increments of $20/each with $2 shipping/handling fee (for online purchase only).&nbsp\; Each $20 check must be spent in its entirety in one member business.&nbsp\; There will be no cash back.&nbsp\;</span></span></span><br />\n&nbsp\;<br />\n<span style="font-weight:bold\;language:en-US\;"><span style="color:#006600\;"><span style="font-family:arial\;"><span style="font-size:11.0pt\;">Buffalo Bucks: </span></span></span></span><span style="language:en-US\;"><span style="font-family:arial\;"><span style="font-size:11.0pt\;">You can find a list of participating businesses on the Chamber of Commerce website and on the insert given with the check itself when you purchase the Buffalo Bucks.&nbsp\; <a href="https://business.buffalochamber.org/list"><span style="font-size:14px\;">&nbsp\;</span></a></span></span></span><a href="https://business.buffalochamber.org/list"><span style="font-size:14px\;">https://business.buffalochamber.org/list</span></a><br />\n<br />\n<span style="language:en-US\;"><span style="font-family:arial\;"><span style="font-size:11.0pt\;">To order online click the registration button to the right and check out as a guest. Your printed Buffalo Bucks will be mailed to you.&nbsp\; You may also stop in the office to purchase: 205 Central Ave (next to the post office).</span></span></span><br />\n&nbsp\;<br />\n<span style="language:en-US\;"><span style="font-family:arial\;"><span style="font-size:11.0pt\;">Thank you for keeping the revenue flowing in our community by supporting our local businesses.</span></span></span><br />\n&nbsp\;
LOCATION:Purchase Buffalo Bucks online or at the Buffalo Chamber of Commerce office.
UID:e.1628.9765
SEQUENCE:3
DTSTAMP:20260423T194129Z
URL:https://business.buffalochamber.org/events/details/buffalo-bucks-by-buffalo-chamber-of-commerce-9765
END:VEVENT

END:VCALENDAR
