BEGIN:VCALENDAR
VERSION:2.0
PRODID:-//ChamberMaster//Event Calendar 2.0//EN
METHOD:PUBLISH
X-PUBLISHED-TTL:P3D
REFRESH-INTERVAL:P3D
CALSCALE:GREGORIAN
BEGIN:VEVENT
DTSTART:20250201T143000Z
DTEND:20250201T203000Z
X-MICROSOFT-CDO-ALLDAYEVENT:FALSE
SUMMARY:Annual Meal Packaging Event
DESCRIPTION:Meal Packaging 2/1/2025\n\nDate:  Saturday\, February 1st\, 2025\n\n\n\nLocation:  St Francis Xavier School\n\n\n\nJoin us for the 8th annual Meal Packaging event at St Francis Xavier School. The activity is similar to Feed My Starving Children meal packaging but available locally. The event is a great service opportunity for families\, groups\, individuals\, and those who need service hours. Register to pack meals at 8:30\, 10:30\, 12:30 or 2:30 at the form at the link at the top of the https://stfxb.org/  home page.
X-ALT-DESC;FMTTYPE=text/html:<!--StartFragment--><span data-olk-copy-source="MessageBody" style="font-size: 10pt\; font-family: sans-serif\;">Meal Packaging 2/1/2025</span><!--EndFragment-->\n<div style="border: 0px\; font-variant-numeric: inherit\; font-variant-east-asian: inherit\; font-variant-alternates: inherit\; font-variant-position: inherit\; font-variant-emoji: inherit\; font-stretch: inherit\; font-size: 16px\; line-height: inherit\; font-family: &quot\;Helvetica Neue&quot\;\, Helvetica\, Arial\, sans-serif\; font-optical-sizing: inherit\; font-size-adjust: inherit\; font-kerning: inherit\; font-feature-settings: inherit\; font-variation-settings: inherit\; margin: 0px\; padding: 0px\; vertical-align: baseline\; color: rgb(38\, 40\, 42)\;">\n<p class="x_ydpfbf423c9yiv3221138467ydp1ceccbf0yiv1204468010ydp27dfd9d8yiv9636673175ydp25f56a25yiv5148588949ydp1283efd6yiv1908908494ydpbc67aa2yiv7673965663ydp9a05225yiv4706456704ydp63cff59dyiv1886643522ydp1852341ayiv5762855521ydpb3b6d868yiv9466722410ydp65b2ca4byiv6891467546msonormal"><span data-olk-copy-source="MessageBody" style="border: 0px\; font-style: inherit\; font-variant: inherit\; font-weight: inherit\; font-stretch: inherit\; font-size: 10pt\; line-height: inherit\; font-family: sans-serif\; font-optical-sizing: inherit\; font-size-adjust: inherit\; font-kerning: inherit\; font-feature-settings: inherit\; font-variation-settings: inherit\; margin: 0px\; padding: 0px\; vertical-align: baseline\; color: inherit\;">Date:&nbsp\; Saturday\, February 1st\, 2025</span></p>\n</div>\n\n<div style="border: 0px\; font-variant-numeric: inherit\; font-variant-east-asian: inherit\; font-variant-alternates: inherit\; font-variant-position: inherit\; font-variant-emoji: inherit\; font-stretch: inherit\; font-size: 16px\; line-height: inherit\; font-family: &quot\;Helvetica Neue&quot\;\, Helvetica\, Arial\, sans-serif\; font-optical-sizing: inherit\; font-size-adjust: inherit\; font-kerning: inherit\; font-feature-settings: inherit\; font-variation-settings: inherit\; margin: 0px\; padding: 0px\; vertical-align: baseline\; color: rgb(38\, 40\, 42)\;">\n<p class="x_ydpfbf423c9yiv3221138467ydp1ceccbf0yiv1204468010ydp27dfd9d8yiv9636673175ydp25f56a25yiv5148588949ydp1283efd6yiv1908908494ydpbc67aa2yiv7673965663ydp9a05225yiv4706456704ydp63cff59dyiv1886643522ydp1852341ayiv5762855521ydpb3b6d868yiv9466722410ydp65b2ca4byiv6891467546msonormal"><span style="border: 0px\; font-style: inherit\; font-variant: inherit\; font-weight: inherit\; font-stretch: inherit\; font-size: 10pt\; line-height: inherit\; font-family: sans-serif\; font-optical-sizing: inherit\; font-size-adjust: inherit\; font-kerning: inherit\; font-feature-settings: inherit\; font-variation-settings: inherit\; margin: 0px\; padding: 0px\; vertical-align: baseline\; color: inherit\;">Location:&nbsp\; St Francis Xavier School</span></p>\n</div>\n\n<div style="border: 0px\; font-variant-numeric: inherit\; font-variant-east-asian: inherit\; font-variant-alternates: inherit\; font-variant-position: inherit\; font-variant-emoji: inherit\; font-stretch: inherit\; font-size: 16px\; line-height: inherit\; font-family: &quot\;Helvetica Neue&quot\;\, Helvetica\, Arial\, sans-serif\; font-optical-sizing: inherit\; font-size-adjust: inherit\; font-kerning: inherit\; font-feature-settings: inherit\; font-variation-settings: inherit\; margin: 0px\; padding: 0px\; vertical-align: baseline\; color: rgb(38\, 40\, 42)\;">\n<div dir="ltr" style="border: 0px\; font: inherit\; margin: 0px\; padding: 0px\; vertical-align: baseline\; color: inherit\;"><span style="border: 0px\; font-style: inherit\; font-variant: inherit\; font-weight: inherit\; font-stretch: inherit\; font-size: 10pt\; line-height: inherit\; font-family: sans-serif\; font-optical-sizing: inherit\; font-size-adjust: inherit\; font-kerning: inherit\; font-feature-settings: inherit\; font-variation-settings: inherit\; margin: 0px\; padding: 0px\; vertical-align: baseline\; color: inherit\;">Join us for the 8th&nbsp\;</span><font color="#26282a" style="background-color: inherit !important\; font-family: sans-serif\; font-size: 10pt\;">annual Meal Packaging event at St Francis Xavier School.&nbsp\;The activity is similar to Feed My Starving Children meal packaging but available locally. The&nbsp\;</font><font color="#26282a" style="background-color: inherit !important\; font-family: sans-serif\; font-size: 10pt\;">event is a great service opportunity for families\, groups\, individuals\, and those who need service hours. Register to pack meals at 8:30\, 10:30\, 12:30 or 2:30 at the form at the link at the top of the&nbsp\;</font><a data-auth="NotApplicable" data-linkindex="0" href="https://stfxb.org/" id="LPlnk435371" rel="nofollow noopener noreferrer" shape="rect" style="border: 0px\; font: inherit\; margin: 0px\; padding: 0px\; vertical-align: baseline\; color: rgb(25\, 106\, 212) !important\;" target="_blank" title="https://stfxb.org/">https://stfxb.org/</a><font color="#26282a" style="background-color: inherit !important\; font-family: sans-serif\; font-size: 10pt\;">&nbsp\; home page.</font></div>\n\n<div>&nbsp\;</div>\n</div>\n
LOCATION:St Francis Xavier School 223 19th St NW Buffalo\, MN 55313
UID:e.1628.10222
SEQUENCE:3
DTSTAMP:20260425T013754Z
URL:https://business.buffalochamber.org/events/details/annual-meal-packaging-event-10222
END:VEVENT

END:VCALENDAR
