BEGIN:VCALENDAR
VERSION:2.0
PRODID:-//ChamberMaster//Event Calendar 2.0//EN
METHOD:PUBLISH
X-PUBLISHED-TTL:P3D
REFRESH-INTERVAL:P3D
CALSCALE:GREGORIAN
BEGIN:VEVENT
DTSTART;VALUE=DATE:20170719
DTEND;VALUE=DATE:20170720
TRANSP:TRANSPARENT
X-MICROSOFT-CDO-ALLDAYEVENT:TRUE
SUMMARY:Animal Architects
DESCRIPTION:Saint John's University students will teach us about some of the world's most talented architects - ANIMALS!  Read a story\, play some games\, and have some fun. For ages 3-12.
X-ALT-DESC;FMTTYPE=text/html:Saint John&#39\;s University students will teach us about some of the world&#39\;s most talented architects - ANIMALS!&nbsp\; Read a story\, play some games\, and have some fun. For ages 3-12.
LOCATION:Great River Library - Buffalo 18 NW Lake Blvd. Buffalo\, MN 55313
UID:e.1628.4936
SEQUENCE:3
DTSTAMP:20260424T084345Z
URL:https://business.buffalochamber.org/events/details/animal-architects-4936
END:VEVENT

END:VCALENDAR
